BEGIN:VCALENDAR
VERSION:2.0
PRODID:-//Festiona - ECPv6.15.20//NONSGML v1.0//EN
CALSCALE:GREGORIAN
METHOD:PUBLISH
X-ORIGINAL-URL:https://www.festiona.it
X-WR-CALDESC:Eventi per Festiona
REFRESH-INTERVAL;VALUE=DURATION:PT1H
X-Robots-Tag:noindex
X-PUBLISHED-TTL:PT1H
BEGIN:VTIMEZONE
TZID:Europe/Rome
BEGIN:DAYLIGHT
TZOFFSETFROM:+0100
TZOFFSETTO:+0200
TZNAME:CEST
DTSTART:20220327T010000
END:DAYLIGHT
BEGIN:STANDARD
TZOFFSETFROM:+0200
TZOFFSETTO:+0100
TZNAME:CET
DTSTART:20221030T010000
END:STANDARD
BEGIN:DAYLIGHT
TZOFFSETFROM:+0100
TZOFFSETTO:+0200
TZNAME:CEST
DTSTART:20230326T010000
END:DAYLIGHT
BEGIN:STANDARD
TZOFFSETFROM:+0200
TZOFFSETTO:+0100
TZNAME:CET
DTSTART:20231029T010000
END:STANDARD
BEGIN:DAYLIGHT
TZOFFSETFROM:+0100
TZOFFSETTO:+0200
TZNAME:CEST
DTSTART:20240331T010000
END:DAYLIGHT
BEGIN:STANDARD
TZOFFSETFROM:+0200
TZOFFSETTO:+0100
TZNAME:CET
DTSTART:20241027T010000
END:STANDARD
END:VTIMEZONE
BEGIN:VEVENT
DTSTART;TZID=Europe/Rome:20230422T140000
DTEND;TZID=Europe/Rome:20230422T180000
DTSTAMP:20260419T231821
CREATED:20230304T115712Z
LAST-MODIFIED:20230304T115712Z
UID:1971-1682172000-1682186400@www.festiona.it
SUMMARY:INNESTA UN CASTAGNO
DESCRIPTION:Respiro dunque sono: il bosco\, terzo polmone dell’essere umano\nLa salvaguardia del patrimonio boschivo è un tema che certamente riguarda tutta la vita sulla Terra: in Valle Stura essa trova una concreta applicazione nelle operazioni di recupero castagneti effettuati da molti\, privati o aziende\, per scongiurare l’abbandono della montagna e preservare gli equilibri naturali\, valorizzando al tempo stesso il territorio. \nCon questa attività di MERAN andremo a conoscere da vicino persone che hanno scelto di dedicare la propria vita alla castanicoltura\, facendola diventare un lavoro a tempo pieno e per tutto l’anno. \n \nIl pomeriggio è suddiviso in 3 momenti: \n\n Trekking nel bosco di Festiona\n\nAccompagnati da una guida naturalistica cammineremo tra i castagni di Festiona\, mentre un esperto castanicoltore ci racconterà il lavoro che sta dietro al mantenimento di un bosco sano e produttivo. \n\n Come si fa un innesto\n\nIl castanicoltore ci mostrerà cosa son\, a cosa servono e come si fanno gli innesti \n\n Innesta un castagno\n\nDivisi in gruppi\, innesteremo con le nostre mani un piantino di castagno\, dando un \ncontributo concreto alla tutela dell’ambiente boschivo. \n \nInfo e prenotazioni\nPorta di Valle – Valle Stura \n328 203 2182 | portadivalle@vallesturaexperience.it \nAlcune informazioni importanti\nRitrovo: ore 14 al Centro Fondo \nDurata: 4 ore circa \nMateriale fornito: attrezzatura per innesti \nMateriale necessario: abbigliamento comodo da camminata\, scarpe adatte a terreni boschivi\, k-way in caso di maltempo \nNon finisce qui…\nSe vuoi passare l’intera giornata tra sport\, natura e cibo buono\, ti consigliamo di dare un’occhiata anche all’attività “RACCOLTA ERBE SPONTANEE” che si svolgerà in questa stessa giornata dalle ore 10: clicca QUI.
URL:https://www.festiona.it/attivita/innesta-un-castagno/
LOCATION:Centro Fondo Festiona\, Via Chiardola\, 1\, Festiona\, CN\, 12014\, Italia
CATEGORIES:Aria
ATTACH;FMTTYPE=image/png:https://www.festiona.it/wp-content/uploads/2023/03/13.png
END:VEVENT
END:VCALENDAR