BEGIN:VCALENDAR
VERSION:2.0
PRODID:-//Festiona - ECPv6.15.20//NONSGML v1.0//EN
CALSCALE:GREGORIAN
METHOD:PUBLISH
X-ORIGINAL-URL:https://www.festiona.it
X-WR-CALDESC:Eventi per Festiona
REFRESH-INTERVAL;VALUE=DURATION:PT1H
X-Robots-Tag:noindex
X-PUBLISHED-TTL:PT1H
BEGIN:VTIMEZONE
TZID:Europe/Rome
BEGIN:DAYLIGHT
TZOFFSETFROM:+0100
TZOFFSETTO:+0200
TZNAME:CEST
DTSTART:20230326T010000
END:DAYLIGHT
BEGIN:STANDARD
TZOFFSETFROM:+0200
TZOFFSETTO:+0100
TZNAME:CET
DTSTART:20231029T010000
END:STANDARD
BEGIN:DAYLIGHT
TZOFFSETFROM:+0100
TZOFFSETTO:+0200
TZNAME:CEST
DTSTART:20240331T010000
END:DAYLIGHT
BEGIN:STANDARD
TZOFFSETFROM:+0200
TZOFFSETTO:+0100
TZNAME:CET
DTSTART:20241027T010000
END:STANDARD
BEGIN:DAYLIGHT
TZOFFSETFROM:+0100
TZOFFSETTO:+0200
TZNAME:CEST
DTSTART:20250330T010000
END:DAYLIGHT
BEGIN:STANDARD
TZOFFSETFROM:+0200
TZOFFSETTO:+0100
TZNAME:CET
DTSTART:20251026T010000
END:STANDARD
END:VTIMEZONE
BEGIN:VEVENT
DTSTART;TZID=Europe/Rome:20240224T210000
DTEND;TZID=Europe/Rome:20240224T233000
DTSTAMP:20260426T012330
CREATED:20240208T124538Z
LAST-MODIFIED:20240209T092021Z
UID:2198-1708808400-1708817400@www.festiona.it
SUMMARY:E ri-uscimmo a riveder le stelle
DESCRIPTION:Trekking in notturna e osservazione lunare con telescopi\nUn trekking in notturna nei dintorni del Centro Fondo in compagnia di guide naturalistiche e astrofile di Sideralis APS per imparare a orientarsi nel cielo stellato della Valle Stura in un magico viaggio fatto di storia\, galassie\, miti\, costellazioni\, stelle e pianeti. \nA conclusione del percorso arriveremo nella zona osservativa allestita presso il Centro Fondo: qui osserveremo la Luna e le stelle attraverso strumentazioni astronomiche professionali guidati dall’Associazione Sideralis – Officina delle Stelle. \nAttività gratuita su prenotazione con Eventbrite\nCLICCA QUI PER PRENOTARE\nPer chi desiderasse cenare al Centro Fondo prima dell’attività\, può prenotare la cena convenzionata presso il ristorante A L’Ubac alle ore 19.15\, specificando che è iscritto all’attività del progetto MERAN chiamando il numero: +39 329 699 0413 (Daniele) entro martedì 20/02. \nAlcune informazioni importanti\nRitrovo: ore 21 presso il Centro Fondo di Festiona \nDurata: 3 ore circa\, compresa l’osservazione \nMateriale necessario: luce frontale\, abbigliamento adeguato alle temperature della stagione \nEtà minima: 8 anni \nRequisiti: non è richiesto allenamento\, l’attività è adatta a tutti
URL:https://www.festiona.it/attivita/e-ri-uscimmo-a-riveder-le-stelle-3/
LOCATION:Centro Fondo Festiona\, Via Chiardola\, 1\, Festiona\, CN\, 12014\, Italia
CATEGORIES:Fuoco
ATTACH;FMTTYPE=image/jpeg:https://www.festiona.it/wp-content/uploads/2024/02/SITO-1-scaled.jpg
END:VEVENT
END:VCALENDAR