BEGIN:VCALENDAR
VERSION:2.0
PRODID:-//Festiona - ECPv6.15.20//NONSGML v1.0//EN
CALSCALE:GREGORIAN
METHOD:PUBLISH
X-ORIGINAL-URL:https://www.festiona.it
X-WR-CALDESC:Eventi per Festiona
REFRESH-INTERVAL;VALUE=DURATION:PT1H
X-Robots-Tag:noindex
X-PUBLISHED-TTL:PT1H
BEGIN:VTIMEZONE
TZID:Europe/Rome
BEGIN:DAYLIGHT
TZOFFSETFROM:+0100
TZOFFSETTO:+0200
TZNAME:CEST
DTSTART:20210328T010000
END:DAYLIGHT
BEGIN:STANDARD
TZOFFSETFROM:+0200
TZOFFSETTO:+0100
TZNAME:CET
DTSTART:20211031T010000
END:STANDARD
BEGIN:DAYLIGHT
TZOFFSETFROM:+0100
TZOFFSETTO:+0200
TZNAME:CEST
DTSTART:20220327T010000
END:DAYLIGHT
BEGIN:STANDARD
TZOFFSETFROM:+0200
TZOFFSETTO:+0100
TZNAME:CET
DTSTART:20221030T010000
END:STANDARD
BEGIN:DAYLIGHT
TZOFFSETFROM:+0100
TZOFFSETTO:+0200
TZNAME:CEST
DTSTART:20230326T010000
END:DAYLIGHT
BEGIN:STANDARD
TZOFFSETFROM:+0200
TZOFFSETTO:+0100
TZNAME:CET
DTSTART:20231029T010000
END:STANDARD
BEGIN:DAYLIGHT
TZOFFSETFROM:+0100
TZOFFSETTO:+0200
TZNAME:CEST
DTSTART:20240331T010000
END:DAYLIGHT
BEGIN:STANDARD
TZOFFSETFROM:+0200
TZOFFSETTO:+0100
TZNAME:CET
DTSTART:20241027T010000
END:STANDARD
BEGIN:DAYLIGHT
TZOFFSETFROM:+0100
TZOFFSETTO:+0200
TZNAME:CEST
DTSTART:20250330T010000
END:DAYLIGHT
BEGIN:STANDARD
TZOFFSETFROM:+0200
TZOFFSETTO:+0100
TZNAME:CET
DTSTART:20251026T010000
END:STANDARD
END:VTIMEZONE
BEGIN:VEVENT
DTSTART;TZID=Europe/Rome:20240714T160000
DTEND;TZID=Europe/Rome:20240714T190000
DTSTAMP:20260421T004910
CREATED:20240621T091825Z
LAST-MODIFIED:20240625T143847Z
UID:2286-1720972800-1720983600@www.festiona.it
SUMMARY:Il Paese delle MERANviglie
DESCRIPTION:Il Paese delle MERANviglie\nOrienteering game diffuso nel paese di Festiona e grigliata d’estate al Centro Fondo Festiona\n \nUn gioco-trekking diffuso su tutto il paese di Festiona\, alla scoperta degli angoli naturali\, della cultura e della storia di questo splendido posto\, in compagnia della guida naturalistica. \nDurante il percorso ci cimenteremo in prove da superare e indizi da collegare per trovare… la strada giusta! \nAdatto a grandi e piccini\, ancora meglio se fatto insieme! \nAttività gratuita su prenotazione a questo link\nRichiesto tesseramento ASD con possibilità di effettuarlo in loco al costo di 5€ presentandosi 20 minuti prima dell’inizio dell’attività o via mail scrivendo a centrofondo@festiona.it e pagando il giorno stesso dell’attività.\nRitrovo ore 16 presso il Centro Fondo Festiona\nInfo: centrofondo@festiona.it \n  \n \nE a seguire… \nGrande grigliata A L’Ubac\nOre 19:30\nPer chi avesse piacere di concludere la giornata con un momento di convivialità\, il Ristorante del Centro Fondo Festiona propone una grande grigliata al prezzo convenzionato di \n20 € adulti (antipasto – grigliata – crostata) \n10 € bambini < 10 anni (milanese – patatine -crostata) \nBevande a parte \nPrenotazioni entro mercoledì 10 luglio alle ore 12 al numero +39 329 699 0413 (Daniele)\nSpecificare MENU GRIGLIATA al momento della prenotazione.
URL:https://www.festiona.it/attivita/il-paese-delle-meranviglie-3/
LOCATION:Centro Fondo Festiona\, Via Chiardola\, 1\, Festiona\, CN\, 12014\, Italia
CATEGORIES:Terra
ATTACH;FMTTYPE=image/jpeg:https://www.festiona.it/wp-content/uploads/2024/06/MERAN_Il-Paese-delle-MERANviglie_14-07_1920x1080_2024-scaled.jpg
END:VEVENT
BEGIN:VEVENT
DTSTART;TZID=Europe/Rome:20240713T100000
DTEND;TZID=Europe/Rome:20240713T123000
DTSTAMP:20260421T004910
CREATED:20240625T114500Z
LAST-MODIFIED:20240627T085427Z
UID:2298-1720864800-1720873800@www.festiona.it
SUMMARY:Raccolta erbe spontanee
DESCRIPTION:Non chiamiamole erbacce: nutrirsi naturalmente\nCon un’erborista professionista impareremo a conoscere le erbe spontanee che crescono nel bosco\, scoprendo come quelle che spesso definiamo “erbacce” sono in realtà fonte di nutrimento per l’uomo. \nCi addentreremo poi sul Sentiero del Bosco\, dove ci metteremo alla prova per riconoscere e raccogliere le erbe delle quali abbiamo appreso gli utilizzi. \nUn modo nuovo e diverso di accostarsi alla natura\, imparando a osservare ciò che ci circonda con altri occhi\, a dare valore a qualcosa che prima non sembrava averne. \nE per gustare i frutti della raccolta…\npossibilità di pranzo a prezzo convenzionato presso il ristorante del Centro Fondo À L’Ubac: prenotazione obbligatoria entro il 10/07 ore 12\, chiamando il 329 699 0413 (Daniele) e specificando che si è iscritti all’attività del Progetto MERAN. \nAttività gratuita su prenotazione a questo link\nRichiesto tesseramento ASD con possibilità di effettuarlo in loco al costo di 5€ presentandosi 20 minuti prima dell’inizio dell’attività o via mail scrivendo a centrofondo@festiona.it e pagando il giorno stesso dell’attività.\n \nAlcune informazioni importanti\nRitrovo: ore 10 presso il Centro Fondo di Festiona \nDurata: 2\,5 ore circa \nMateriale necessario: scarpe da trekking\, borsa riutilizzabile per la raccolta erbe\, abbigliamento adeguato alle temperature della stagione. \nEtà minima: 8 anni \n  \n 
URL:https://www.festiona.it/attivita/raccolta-erbe-spontanee-4/
LOCATION:Centro Fondo Festiona\, Via Chiardola\, 1\, Festiona\, CN\, 12014\, Italia
CATEGORIES:Terra
ATTACH;FMTTYPE=image/jpeg:https://www.festiona.it/wp-content/uploads/2024/06/MERAN_Non-chiamiamole-erbacce_13-07_1920x1080_2024-scaled.jpg
END:VEVENT
BEGIN:VEVENT
DTSTART;TZID=Europe/Rome:20240505T150000
DTEND;TZID=Europe/Rome:20240505T180000
DTSTAMP:20260421T004910
CREATED:20240421T164421Z
LAST-MODIFIED:20240422T133053Z
UID:2251-1714921200-1714932000@www.festiona.it
SUMMARY:Il Paese delle MERANviglie
DESCRIPTION:Il Paese delle MERANviglie\nOrienteering game diffuso nel paese di Festiona\nUn gioco-trekking diffuso su tutto il paese di Festiona\, alla scoperta degli angoli naturali\, della cultura e della storia di questo splendido posto\, in compagnia della guida naturalistica. \nDurante il percorso ci cimenteremo in prove da superare e indizi da collegare per trovare… la strada giusta! \nAdatto a grandi e piccini\, ancora meglio se fatto insieme! \nAttività gratuita su prenotazione a questo link\nRichiesto tesseramento ASD con possibilità di effettuarlo in loco al costo di 5€ presentandosi 20 minuti prima dell’inizio dell’attività o via mail scrivendo a centrofondo@festiona.it e pagando il giorno stesso dell’attività.\nRitrovo ore 15 presso il Centro Fondo Festiona\nInfo\ncentrofondo@festiona.it
URL:https://www.festiona.it/attivita/il-paese-delle-meranviglie-2/
LOCATION:Centro Fondo Festiona\, Via Chiardola\, 1\, Festiona\, CN\, 12014\, Italia
CATEGORIES:Terra
ATTACH;FMTTYPE=image/jpeg:https://www.festiona.it/wp-content/uploads/2024/04/MERAN_Il-Paese-delle-MERANviglie_05-05_1920x1080_2024-1-scaled.jpg
END:VEVENT
BEGIN:VEVENT
DTSTART;TZID=Europe/Rome:20240421T100000
DTEND;TZID=Europe/Rome:20240421T130000
DTSTAMP:20260421T004910
CREATED:20240319T134031Z
LAST-MODIFIED:20240319T134031Z
UID:2230-1713693600-1713704400@www.festiona.it
SUMMARY:Raccolta erbe spontanee
DESCRIPTION:Non chiamiamole erbacce\nNutrirsi naturalmente\nCon un’erborista professionista impareremo a conoscere le erbe spontanee che crescono nel bosco\, scoprendo come quelle che spesso definiamo “erbacce” sono in realtà fonte di nutrimento per l’uomo. \nCi addentreremo poi sul Sentiero del Bosco\, dove ci metteremo alla prova per riconoscere e raccogliere le erbe delle quali abbiamo appreso gli utilizzi. \nUn modo nuovo e diverso di accostarsi alla natura\, imparando a osservare ciò che ci circonda con altri occhi\, a dare valore a qualcosa che prima non sembrava averne. \nPer chi desiderasse gustare i frutti del raccolto in squisiti piatti locali\, possibilità di pranzo a prezzo convenzionato (25€ adulti e 10€ bambini < 10 anni) presso il ristorante del Centro Fondo À L’Ubac: prenotazione obbligatoria entro il 15 aprile\, chiamando il +39 329 699 0413 (Daniele) e specificando che si è iscritti all’attività del Progetto MERAN. \nAttività gratuita su prenotazione a questo link\nRichiesto tesseramento ASD con possibilità di effettuarlo in loco al costo di 5€ presentandosi 20 minuti prima dell’inizio dell’attività o via mail scrivendo a centrofondo@festiona.it e pagando il giorno stesso dell’attività.\n \nAlcune informazioni importanti\nRitrovo: ore 10 presso il Centro Fondo di Festiona \nDurata: 3 ore circa \nMateriale necessario: scarpe da trekking\, borsa riutilizzabile per la raccolta erbe\, abbigliamento adeguato alle temperature della stagione. \nEtà minima: 8 anni \n  \nNon finisce qui…\nSe vuoi passare l’intera giornata tra sport\, natura e cibo buono\, ti consigliamo di dare un’occhiata anche all’attività “INNESTA UN CASTAGNO” che si svolgerà in questa stessa giornata dalle ore 15: clicca QUI
URL:https://www.festiona.it/attivita/raccolta-erbe-spontanee-3/
LOCATION:Centro Fondo Festiona\, Via Chiardola\, 1\, Festiona\, CN\, 12014\, Italia
CATEGORIES:Terra
ATTACH;FMTTYPE=image/jpeg:https://www.festiona.it/wp-content/uploads/2024/03/MERAN_Non-chiamiamole-erbacce_21-04_1920x1080_2024-scaled.jpg
END:VEVENT
BEGIN:VEVENT
DTSTART;TZID=Europe/Rome:20240410T150000
DTEND;TZID=Europe/Rome:20240410T180000
DTSTAMP:20260421T004910
CREATED:20240228T105824Z
LAST-MODIFIED:20240228T113654Z
UID:2218-1712761200-1712772000@www.festiona.it
SUMMARY:Corso MTB
DESCRIPTION:CORSO MOUNTAIN BIKE\nPer bambini/e e ragazzi/e dalla terza elementare alla terza media\nIl Centro Fondo Festiona propone per la primavera un corso di avvicinamento alla mountain bike con maestro rivolto a bambini/e e ragazzi/e dalla terza elementare alla terza media. \nLe lezioni sono articolate in una prima parte di campetto per migliorare la tecnica e una secondo di uscita su sentieri. \nRichiesto certificato medico di buona salute (non agonistico). \nNecessari caschetto e abbigliamento adeguato all’attività. \nPossibilità di affitto MTB/E-bike al prezzo convenzionato di 10€/lezione su prenotazione entro domenica 31 marzo 2024 \n\nCALENDARIO\nLEZIONI\n10 – 17 – 24 aprile\n15-16:30 (dalla 3ª alla 5ª elementare) \n16:30-18 (dalla 1ª alla 3ª media) \nUSCITA FINALE\n4 maggio\n10-13 elementari \n14-17 medie \n  \nCosto: 25€\nNella quota sono comprese le 3 lezioni\, l’uscita finale e il costo della tessera associativa \nInfo\n+39 347 238 5581 (Stefano) \nPrenotazioni entro domenica 31/03 scrivendo a centrofondo@festiona.it\n 
URL:https://www.festiona.it/attivita/corso-mtb/
LOCATION:Centro Fondo Festiona\, Via Chiardola\, 1\, Festiona\, CN\, 12014\, Italia
CATEGORIES:Terra
ATTACH;FMTTYPE=image/jpeg:https://www.festiona.it/wp-content/uploads/2024/02/MERAN_101724_04_MTB_1920x1080_2024-scaled.jpg
END:VEVENT
BEGIN:VEVENT
DTSTART;TZID=Europe/Rome:20240217T143000
DTEND;TZID=Europe/Rome:20240217T183000
DTSTAMP:20260421T004910
CREATED:20240201T183016Z
LAST-MODIFIED:20240202T110039Z
UID:2194-1708180200-1708194600@www.festiona.it
SUMMARY:Orienteering in maschera
DESCRIPTION:Orienteering di Carnevale\nIn occasione del Carnevale\, anche il Centro Fondo si colora di festa e sport! \nVi aspettiamo per un pomeriggio di Orienteering sui sentieri di Festiona nel quale non serviranno soltanto un buon senso dell’orientamento e gambe veloci ma anche tanta creatività: vince il costume più divertente! \nL’attività si svolge a squadre con partenza e arrivo al Centro Fondo di Festiona. Anche i bimbi possono partecipare con l’aiuto di un adulto. Le squadre sono principalmente composte da due persone\, ma si può partecipare anche come gruppo familiare. Tutto sempre all’insegna del divertimento. \nPrima della partenza impareremo a: \n– leggere una carta topografica \n– conoscere l’ambiente che ci circonda \n– utilizzare la bussola\, un semplice ma importantissimo strumento per poter raggiungere lo scopo dell’attività \n  \nAttività gratuita su prenotazione: CLICCA QUI per prenotare\nInfo: centrofondo@festiona.it\nAlcune informazioni importanti\nRitrovo: ore 14:30 presso il Centro Fondo di Festiona \nDurata: circa 3-4 ore (incluso briefing sull’utilizzo della strumentazione) \nMateriale fornito: bussola\, carta \nMateriale necessario: scarpe da trekking\, abbigliamento tecnico sportivo (sotto al costume di Carnevale)\, k-way in caso di maltempo. \nEtà minima: 6 anni \nRequisiti: non è richiesto allenamento\, l’attività si può svolgere camminando.
URL:https://www.festiona.it/attivita/orienteering-in-maschera/
LOCATION:Centro Fondo Festiona\, Via Chiardola\, 1\, Festiona\, CN\, 12014\, Italia
CATEGORIES:Terra
ATTACH;FMTTYPE=image/jpeg:https://www.festiona.it/wp-content/uploads/2024/02/Sito-scaled.jpg
END:VEVENT
BEGIN:VEVENT
DTSTART;TZID=Europe/Rome:20231001T094500
DTEND;TZID=Europe/Rome:20231001T130000
DTSTAMP:20260421T004910
CREATED:20230917T074415Z
LAST-MODIFIED:20230917T074415Z
UID:2054-1696153500-1696165200@www.festiona.it
SUMMARY:ORIENTEERING
DESCRIPTION:Conoscere il territorio – Sunny edition\nIl Progetto MERAN ha portato una bella novità a Festiona: un percorso di Orienteering fisso che chiunque potrà provare in qualsiasi momento! Per inaugurarlo proponiamo una giornata aperta con tanto di guide sul percorso e una persona dedicata a prendere i tempi. \nL’attività si svolge principalmente in ambiente naturale (non per nulla l’Orienteering è anche chiamato “lo sport dei boschi”!) e a squadre\, con partenza e arrivo al Centro Fondo di Festiona. Anche i bimbi possono partecipare con l’aiuto di un adulto. Le squadre sono principalmente composte da due persone\, ma si può partecipare anche come gruppo familiare. Tutto sempre all’insegna del divertimento. \nImpareremo a: \n– leggere una carta topografica \n– conoscere l’ambiente che ci circonda \n– utilizzare la bussola\, un semplice ma importantissimo strumento per poter raggiungere lo scopo dell’attività \nATTIVITÀ GRATUITA su prenotazione\nPrenotazioni al 328 203 2182 | portadivalle@vallesturaexperience.it \n[Porta di Valle – Valle Stura] \nAlcune informazioni importanti\nRitrovo: ore 9.45 presso il Centro Fondo di Festiona \nDurata: circa 3-4 ore (incluso briefing sull’utilizzo della strumentazione) \nMateriale fornito: bussola\, carta \nMateriale necessario: scarpe da trekking\, abbigliamento tecnico sportivo\, k-way in caso di maltempo. \n  \nEtà minima: 6 anni \nNumero partecipanti: 30 pax \nRequisiti: non è richiesto allenamento\, l’attività si può svolgere camminando.
URL:https://www.festiona.it/attivita/orienteering-2/
LOCATION:Centro Fondo Festiona\, Via Chiardola\, 1\, Festiona\, CN\, 12014\, Italia
CATEGORIES:Terra
ATTACH;FMTTYPE=image/png:https://www.festiona.it/wp-content/uploads/2023/09/SITO-ED-EVENTI-1.png
END:VEVENT
BEGIN:VEVENT
DTSTART;TZID=Europe/Rome:20230930T140000
DTEND;TZID=Europe/Rome:20230930T180000
DTSTAMP:20260421T004910
CREATED:20230925T133416Z
LAST-MODIFIED:20230925T133435Z
UID:2058-1696082400-1696096800@www.festiona.it
SUMMARY:Detective dei Boschi al Valle Stura Sport Day
DESCRIPTION:Detective dei Boschi: alla scoperta degli animali sulle loro orme\nValle Stura Sport Day\nIn occasione del Valle Stura Sport Day\, sabato 30 settembre il Centro Fondo Festiona porta a Demonte un’attività del Progetto MERAN: \n“Detective dei boschi: alla scoperta degli animali sulle loro orme” è un divertente laboratorio sul riconoscimento delle orme degli animali che vivono nei boschi della Valle Stura. \n \nL’attività è strutturata in 3 momenti: \nGli animali del bosco: quali sono e come riconoscerli dagli indizi che lasciano al loro passaggio\nAnimal-memory: ora che hai imparato a riconoscere le impronte\, abbina la card all’animale corretto!\n \nPorta a casa la tua orma: crea la tua orma preferita con la pasta di sale e portala a casa come ricordo della giornata\n  \n  \n  \nL’attività è libera e gratuita\, troverete 2 ragazze dell’ASD Rucias Bianc che guideranno l’attività per tutto il pomeriggio allo stand del Centro Fondo Festiona.
URL:https://www.festiona.it/attivita/detective-dei-boschi-valle-stura-sport-day/
LOCATION:Demonte\, Piazza Nuto Revelli\, Demonte\, CN\, 12014\, Italia
CATEGORIES:Terra
ATTACH;FMTTYPE=image/png:https://www.festiona.it/wp-content/uploads/2023/09/SITO-ED-EVENTI.png
END:VEVENT
BEGIN:VEVENT
DTSTART;TZID=Europe/Rome:20230826T140000
DTEND;TZID=Europe/Rome:20230826T180000
DTSTAMP:20260421T004910
CREATED:20230806T074419Z
LAST-MODIFIED:20230806T074419Z
UID:2044-1693058400-1693072800@www.festiona.it
SUMMARY:Il Paese delle MERANviglie
DESCRIPTION:Il Paese delle MERANviglie: orienteering game diffuso nel paese di Festiona\nUn gioco-trekking diffuso su tutto il paese di Festiona\, alla scoperta degli angoli naturali\, della cultura e della storia di questo splendido posto\, in compagnia della guida naturalistica. \nDurante il percorso ci cimenteremo in prove da superare e indizi da collegare per trovare… la strada giusta! \nAdatto a grandi e piccini\, ancora meglio se fatto insieme! \nAttività gratuita su prenotazione\nPrenotazioni entro giovedì 24 agosto \nInfo&Prenotazioni\nPorta di Valle – Valle Stura \n328 203 2182 | portadivalle@vallesturaexperience.it 
URL:https://www.festiona.it/attivita/il-paese-delle-meranviglie/
LOCATION:Centro Fondo Festiona\, Via Chiardola\, 1\, Festiona\, CN\, 12014\, Italia
CATEGORIES:Terra
ATTACH;FMTTYPE=image/png:https://www.festiona.it/wp-content/uploads/2023/08/SITO-ED-EVENTI.png
END:VEVENT
BEGIN:VEVENT
DTSTART;TZID=Europe/Rome:20230603T100000
DTEND;TZID=Europe/Rome:20230603T140000
DTSTAMP:20260421T004910
CREATED:20230522T063649Z
LAST-MODIFIED:20230523T105952Z
UID:1995-1685786400-1685800800@www.festiona.it
SUMMARY:RACCOLTA ERBE SPONTANEE
DESCRIPTION:Non chiamiamole erbacce: nutrirsi naturalmente\nL’attività è suddivisa in tre fasi \n \n\nLezione introduttiva sulle erbe spontanee che crescono nel bosco a cura di un’erborista professionista\nTrekking nel bosco con guida naturalistica ed erborista con riconoscimento e raccolta erbe\nPranzo al ristorante del Centro Fondo per gustare i frutti della raccolta\, cucinati da Daniele della Piola A l’Ubac\n\nInfo&Prenotazioni\nPrenotazioni entro il 31/05 al 328 203 2182 | portadivalle@vallesturaexperience.it \n[Porta di Valle – Valle Stura] \nCosto attività\, comprensivo del pranzo: 15 euro \n \nAlcune informazioni importanti\nRitrovo: ore 10 presso il Centro Fondo di Festiona \nDurata: 4 ore (compreso il pranzo) \nMateriale necessario: scarpe da trekking\, borsa riutilizzabile per la raccolta erbe\, abbigliamento adeguato alle temperature della stagione. \nEtà minima: 10 anni
URL:https://www.festiona.it/attivita/raccolta-erbe-spontanee-2/
LOCATION:Centro Fondo Festiona\, Via Chiardola\, 1\, Festiona\, CN\, 12014\, Italia
CATEGORIES:Terra
ATTACH;FMTTYPE=image/png:https://www.festiona.it/wp-content/uploads/2023/03/10.png
END:VEVENT
BEGIN:VEVENT
DTSTART;TZID=Europe/Rome:20230422T100000
DTEND;TZID=Europe/Rome:20230422T140000
DTSTAMP:20260421T004910
CREATED:20230304T105836Z
LAST-MODIFIED:20230304T105836Z
UID:1967-1682157600-1682172000@www.festiona.it
SUMMARY:RACCOLTA ERBE SPONTANEE
DESCRIPTION:Non chiamiamole erbacce: nutrirsi naturalmente\nL’attività è suddivisa in tre fasi \n \n\nLezione introduttiva sulle erbe spontanee che crescono nel bosco a cura di un’erborista professionista\nTrekking nel bosco con guida naturalistica ed erborista con riconoscimento e raccolta erbe\nPranzo al ristorante del Centro Fondo per gustare i frutti della raccolta\, cucinati da Daniele della Piola A l’Ubac\n\nInfo&Prenotazioni \nPrenotazioni al 328 203 2182 | portadivalle@vallesturaexperience.it \n[Porta di Valle – Valle Stura] \nCosto attività\, comprensivo del pranzo: 15 euro \n \n  \nAlcune informazioni importanti \nRitrovo: ore 10 presso il Centro Fondo di Festiona \nDurata: 4 ore (compreso il pranzo) \nMateriale necessario: scarpe da trekking\, borsa riutilizzabile per la raccolta erbe\, abbigliamento adeguato alle temperature della stagione. \nEtà minima: 10 anni
URL:https://www.festiona.it/attivita/raccolta-erbe-spontanee/
LOCATION:Centro Fondo Festiona\, Via Chiardola\, 1\, Festiona\, CN\, 12014\, Italia
CATEGORIES:Terra
ATTACH;FMTTYPE=image/png:https://www.festiona.it/wp-content/uploads/2023/03/10.png
END:VEVENT
BEGIN:VEVENT
DTSTART;TZID=Europe/Rome:20230325T140000
DTEND;TZID=Europe/Rome:20230325T180000
DTSTAMP:20260421T004910
CREATED:20230304T091729Z
LAST-MODIFIED:20230304T100359Z
UID:1942-1679752800-1679767200@www.festiona.it
SUMMARY:PULIZIA SENTIERI AL CENTRO FONDO FESTIONA
DESCRIPTION:Più è pulito più mi diverto: l’importanza della manutenzione sentieri di montagna per il benessere di uomo e natura\n \nCon questa attività in compagnia dei volontari della Squadra A.I.B. e P.C. Demonte potrai imparare buone norme e pratiche di mantenimento dei sentieri che attraversano i boschi con l’obiettivo di prevenire gli incendi boschivi e il dissesto idrogeologico. \nComprenderai che il bosco è una risorsa indispensabile per l’agricoltura e la selvicoltura\, oltre ad essere di vitale importanza per l’”ecosistema Montagna”. \nL’esperienza includerà una parte teorica ed una camminata nel bosco\, dove con un accompagnatore naturalistico si proveranno sul campo le informazioni apprese e le pratiche necessarie per la buona salute dei sentieri nei boschi. \nInfo&Prenotazioni\n328 203 2182 | portadivalle@vallesturaexperience.it \n[Porta di Valle – Valle Stura] \nAlcune informazioni importanti\nRitrovo: ore 14.00 presso il Centro Fondo di Festiona \nDurata: circa 4 ore \nMateriale necessario: scarponi o scarponcini e abbigliamento adeguato alle temperature stagionali. \nEtà minima: 8 anni \nNumero partecipanti: 20 pax \n 
URL:https://www.festiona.it/attivita/pulizia-sentieri/
LOCATION:Centro Fondo Festiona\, Via Chiardola\, 1\, Festiona\, CN\, 12014\, Italia
CATEGORIES:Terra
ATTACH;FMTTYPE=image/png:https://www.festiona.it/wp-content/uploads/2022/09/1.png
END:VEVENT
BEGIN:VEVENT
DTSTART;TZID=Europe/Rome:20230311T140000
DTEND;TZID=Europe/Rome:20230311T180000
DTSTAMP:20260421T004910
CREATED:20230304T091352Z
LAST-MODIFIED:20230304T091352Z
UID:1940-1678543200-1678557600@www.festiona.it
SUMMARY:ORIENTEERING
DESCRIPTION:Conoscere il territorio – Sunny edition\nTrascorreremo un pomeriggio tra i magici castagneti di Festiona\, percorrendo il Sentiero del Bosco all’insegna dell’Orienteering\, un’attività che si svolge principalmente in ambiente naturale (non per nulla è anche chiamato “lo sport dei boschi”!). \nL’attività si svolge a squadre con partenza e arrivo al Centro Fondo di Festiona. Anche i bimbi possono partecipare con l’aiuto di un adulto. Le squadre sono principalmente composte da due persone\, ma si può partecipare anche come gruppo familiare. Tutto sempre all’insegna del divertimento. \nImpareremo a: \n– leggere una carta topografica \n– conoscere l’ambiente che ci circonda \n– utilizzare la bussola\, un semplice ma importantissimo strumento per poter raggiungere lo scopo dell’attività \nATTIVITÀ GRATUITA su prenotazione\nPrenotazioni al 328 203 2182 | portadivalle@vallesturaexperience.it \n[Porta di Valle – Valle Stura] \nAlcune informazioni importanti\nRitrovo: ore 14.00 presso il Centro Fondo di Festiona \nDurata: circa 3-4 ore (incluso briefing sull’utilizzo della strumentazione) \nMateriale fornito: bussola\, carta \nMateriale necessario: scarpe da trekking\, abbigliamento tecnico sportivo\, k-way in caso di maltempo. \n  \nEtà minima: 6 anni \nNumero partecipanti: 30 pax \nRequisiti: non è richiesto allenamento\, l’attività si può svolgere camminando.
URL:https://www.festiona.it/attivita/orienteering/
LOCATION:Centro Fondo Festiona\, Via Chiardola\, 1\, Festiona\, CN\, 12014\, Italia
CATEGORIES:Terra
ATTACH;FMTTYPE=image/png:https://www.festiona.it/wp-content/uploads/2022/09/Progetto-senza-titolo-1.png
END:VEVENT
BEGIN:VEVENT
DTSTART;TZID=Europe/Rome:20230219T094500
DTEND;TZID=Europe/Rome:20230219T130000
DTSTAMP:20260421T004910
CREATED:20230209T101146Z
LAST-MODIFIED:20230209T101146Z
UID:1929-1676799900-1676811600@www.festiona.it
SUMMARY:SCI ORIENTAMENTO
DESCRIPTION:Gara non competitiva al Centro Fondo Festiona\n \n  \nConoscere il territorio – Snowy edition \nCi sono tanti modi per praticare l’orienteering\, e uno di questi è con gli sci da fondo ai piedi! \nLe regole sono le stesse dell’orienteering classico: ad ogni squadra sarà consegnata una carta topografica per l’individuazione delle lanterne sul percorso\, tracciato su una pista da fondo del comprensorio dedicata all’attività. L’obiettivo è individuare tutte le lanterne nel minor tempo possibile con il solo aiuto della bussola\, della carta e\, chiaramente\, delle proprie gambe! \nPrima dello start si terrà una breve introduzione all’orientamento in montagna e all’utilizzo della strumentazione dell’orienteering. \nSul percorso saranno presenti maestri di sci fondo per tutto lo svolgimento dell’attività. \nATTIVITÀ GRATUITA su prenotazione\nPossibilità di affitto attrezzatura in loco \nPrenotazioni entro VENERDÌ 17 febbraio\nal 328 203 2182 | portadivalle@vallesturaexperience.it \n[Porta di Valle – Valle Stura] \nAlcune informazioni importanti\nRitrovo: ore 09.45 presso il Centro Fondo di Festiona \nMateriale necessario: abbigliamento adeguato allo sci di fondo e alle temperature della stagione \nEtà minima: 11 anni \n 
URL:https://www.festiona.it/attivita/sci-orientamento/
LOCATION:Centro Fondo Festiona\, Via Chiardola\, 1\, Festiona\, CN\, 12014\, Italia
CATEGORIES:Terra
ATTACH;FMTTYPE=image/png:https://www.festiona.it/wp-content/uploads/2023/02/sci-orientamento.png
END:VEVENT
BEGIN:VEVENT
DTSTART;TZID=Europe/Rome:20221008T140000
DTEND;TZID=Europe/Rome:20221008T180000
DTSTAMP:20260421T004910
CREATED:20220921T151746Z
LAST-MODIFIED:20220921T154714Z
UID:1846-1665237600-1665252000@www.festiona.it
SUMMARY:Conoscere il territorio - Sunny edition - TERRA
DESCRIPTION:Trascorreremo un pomeriggio tra i magici castagneti di Festiona\, percorrendo il Sentiero del Bosco all’insegna dell’Orienteering\, un’attività che si svolge principalmente in ambiente naturale (non per nulla è anche chiamato “lo sport dei boschi”!). \nL’attività si svolge a squadre con partenza e arrivo al Centro Fondo di Festiona. Anche i bimbi possono partecipare con l’aiuto di un adulto. Le squadre sono principalmente composte da due persone\, ma si può partecipare anche come gruppo familiare. Tutto sempre all’insegna del divertimento. \nImpareremo a: \n– leggere una carta topografica \n– conoscere l’ambiente che ci circonda \n– utilizzare la bussola\, un semplice ma importantissimo strumento per poter raggiungere lo scopo dell’attività \nATTIVITÀ GRATUITA su prenotazione\nPrenotazioni al 328 203 2182 | portadivalle@vallesturaexperience.it \n[Porta di Valle – Valle Stura] \nAlcune informazioni importanti\nRitrovo: ore 14.00 presso il Centro Fondo di Festiona \nDurata: circa 3-4 ore (incluso briefing sull’utilizzo della strumentazione) \nMateriale fornito: bussola\, carta \nMateriale necessario: scarpe da trekking\, abbigliamento tecnico sportivo\, k-way in caso di maltempo. \n  \nEtà minima: 6 anni \nNumero partecipanti: 30 pax \nRequisiti: non è richiesto allenamento\, l’attività si può svolgere camminando.
URL:https://www.festiona.it/attivita/conoscere-il-territorio-sunny-edition-terra/
LOCATION:Centro Fondo Festiona\, Via Chiardola\, 1\, Festiona\, CN\, 12014\, Italia
CATEGORIES:Terra
ATTACH;FMTTYPE=image/png:https://www.festiona.it/wp-content/uploads/2022/09/Progetto-senza-titolo-1.png
END:VEVENT
BEGIN:VEVENT
DTSTART;VALUE=DATE:20220917
DTEND;VALUE=DATE:20220918
DTSTAMP:20260421T004910
CREATED:20220908T102943Z
LAST-MODIFIED:20220921T154339Z
UID:1714-1663372800-1663459199@www.festiona.it
SUMMARY:Più è pulito più mi diverto - TERRA
DESCRIPTION:L’importanza della manutenzione sentieri di montagna per il benessere di uomo e natura\nCon questa attività in compagnia dei volontari della Squadra A.I.B. e P.C. Demonte potrai imparare buone norme e pratiche di mantenimento dei sentieri che attraversano i boschi con l’obiettivo di prevenire gli incendi boschivi e il dissesto idrogeologico. \nComprenderai che il bosco è una risorsa indispensabile per l’agricoltura e la selvicoltura\, oltre ad essere di vitale importanza per l’”ecosistema Montagna”. \nL’esperienza includerà una parte teorica ed una camminata nel bosco\, dove con un accompagnatore naturalistico si proveranno sul campo le informazioni apprese e le pratiche necessarie per la buona salute dei sentieri nei boschi. \nATTIVITÀ GRATUITA su prenotazione\nPrenotazioni al 328 203 2182 | portadivalle@vallesturaexperience.it \n[Porta di Valle – Valle Stura] \nAlcune informazioni importanti\nRitrovo: ore 14.00 presso il Centro Fondo di Festiona \nDurata: circa 4 ore \nMateriale necessario: scarponi o scarponcini e abbigliamento adeguato alle temperature stagionali. \nEtà minima: 8 anni \nNumero partecipanti: 20 pax \n 
URL:https://www.festiona.it/attivita/piu-e-pulito-piu-mi-diverto/
LOCATION:CN
CATEGORIES:Terra
ATTACH;FMTTYPE=image/png:https://www.festiona.it/wp-content/uploads/2022/09/1.png
END:VEVENT
END:VCALENDAR